BEGIN:VCALENDAR
PRODID:-//AT Content Types//AT Event//EN
VERSION:2.0
METHOD:PUBLISH
BEGIN:VEVENT
DTSTAMP:20260422T060619Z
CREATED:20260421T054240Z
UID:ATEvent-6e2e8fbb-347d-49ff-bc94-50794bf9af2d
LAST-MODIFIED:20260421T054325Z
SUMMARY:Exposició «RuTIC\: Rutes Literàries pel Paisatge Mediterrani»
DTSTART:20260421T060000Z
DTEND:20260515T180000Z
CATEGORIES:Lletres,Sant Jordi,Primavera Literària
CLASS:PUBLIC
END:VEVENT
END:VCALENDAR
