BEGIN:VCALENDAR
PRODID:-//AT Content Types//AT Event//EN
VERSION:1.0
BEGIN:VEVENT
DTSTART:20260421T170000Z
DTEND:20260421T183000Z
DCREATED:20260410T064045Z
UID:ATEvent-24e597ce-f8b0-452a-85a7-bf4d09efe9a0
SEQUENCE:0
LAST-MODIFIED:20260410T064318Z
SUMMARY:Pòdcast en directe\: Sonores de risses. Especial Sant Jordi!
PRIORITY:3
TRANSP:0
END:VEVENT
END:VCALENDAR
