BEGIN:VCALENDAR
PRODID:-//AT Content Types//AT Event//EN
VERSION:2.0
METHOD:PUBLISH
BEGIN:VEVENT
DTSTAMP:20260420T211404Z
CREATED:20260413T093606Z
UID:ATEvent-cfb79b02-89a7-4017-8530-5a71ad767287
LAST-MODIFIED:20260414T093127Z
SUMMARY:Presentació dels llibres "Pintura\, ànims i pensament" i "El cel ens ha oblidat"
DTSTART:20260423T074500Z
DTEND:20260423T075500Z
CATEGORIES:Lletres,Sant Jordi,Primavera Literària
CLASS:PUBLIC
END:VEVENT
END:VCALENDAR
