BEGIN:VCALENDAR
PRODID:-//AT Content Types//AT Event//EN
VERSION:2.0
METHOD:PUBLISH
BEGIN:VEVENT
DTSTAMP:20260420T211402Z
CREATED:20260413T093606Z
UID:ATEvent-2e3b3a06-9ecd-479f-8ac8-e48ecf7811cd
LAST-MODIFIED:20260413T094125Z
SUMMARY:Presentació del llibre "La maldición del sí quiero"\, de José Mola
DTSTART:20260423T073000Z
DTEND:20260423T074000Z
CATEGORIES:Lletres,Sant Jordi,Primavera Literària
CLASS:PUBLIC
END:VEVENT
END:VCALENDAR
