BEGIN:VCALENDAR
PRODID:-//AT Content Types//AT Event//EN
VERSION:2.0
METHOD:PUBLISH
BEGIN:VEVENT
DTSTAMP:20260424T005013Z
CREATED:20260422T082321Z
UID:ATEvent-7ba73456-a89a-4a38-9bc5-4211242e1858
LAST-MODIFIED:20260422T084434Z
SUMMARY:Sant Jordi a Ponent | Ballada popular
DTSTART:20260424T080000Z
DTEND:20260424T090000Z
CATEGORIES:Lletres,Sant Jordi,Primavera Literària
CLASS:PUBLIC
END:VEVENT
END:VCALENDAR
