BEGIN:VCALENDAR
PRODID:-//AT Content Types//AT Event//EN
VERSION:1.0
BEGIN:VEVENT
DTSTART:20260428T090000Z
DTEND:20260428T100000Z
DCREATED:20260422T082321Z
UID:ATEvent-226c31fd-4c2d-4061-afbe-2689b4a06360
SEQUENCE:0
LAST-MODIFIED:20260422T083120Z
SUMMARY:Sant Jordi a Ponent | Lliurament de premis i Mostra Literària
PRIORITY:3
TRANSP:0
END:VEVENT
END:VCALENDAR
