BEGIN:VCALENDAR
PRODID:-//AT Content Types//AT Event//EN
VERSION:2.0
METHOD:PUBLISH
BEGIN:VEVENT
DTSTAMP:20260420T211403Z
CREATED:20260413T084518Z
UID:ATEvent-dc8fc6f7-6b9a-4d4e-9dee-c6cfae654844
LAST-MODIFIED:20260413T084527Z
SUMMARY:Signatura de llibres amb Mikel Santiago
DTSTART:20260422T160000Z
DTEND:20260422T170000Z
CATEGORIES:Lletres,Sant Jordi,Primavera Literària
CLASS:PUBLIC
END:VEVENT
END:VCALENDAR
