BEGIN:VCALENDAR
PRODID:-//AT Content Types//AT Event//EN
VERSION:1.0
BEGIN:VEVENT
DTSTART:20260425T100000Z
DTEND:20260425T113000Z
DCREATED:20260410T071649Z
UID:ATEvent-788a0412-7027-4a1c-b08e-d068f968dedc
SEQUENCE:0
LAST-MODIFIED:20260416T071012Z
SUMMARY:Stortytelling\, by La Martina i Kids & Us
PRIORITY:3
TRANSP:0
END:VEVENT
END:VCALENDAR
