BEGIN:VCALENDAR
PRODID:-//AT Content Types//AT Event//EN
VERSION:1.0
BEGIN:VEVENT
DTSTART:20260425T170000Z
DTEND:20260425T181000Z
DCREATED:20260312T065027Z
UID:ATEvent-00b74ecb-e7b0-4eb3-9a41-621e8b83a938
SEQUENCE:0
LAST-MODIFIED:20260416T083123Z
SUMMARY:"Un ram de margarides (a cada nínxol de bruixa)"\, de Queralt Riera
PRIORITY:3
TRANSP:0
END:VEVENT
END:VCALENDAR
