BEGIN:VCALENDAR
PRODID:-//AT Content Types//AT Event//EN
VERSION:2.0
METHOD:PUBLISH
BEGIN:VEVENT
DTSTAMP:20260422T014038Z
CREATED:20260127T140218Z
UID:ATEvent-11c90a0b-c251-4667-baa3-fe216207a05e
LAST-MODIFIED:20260127T140225Z
SUMMARY:Passem pàgina
DTSTART:20260205T160000Z
DTEND:20260205T173000Z
CONTACT:637 365 733
CLASS:PUBLIC
END:VEVENT
END:VCALENDAR
