BEGIN:VCALENDAR
PRODID:-//AT Content Types//AT Event//EN
VERSION:2.0
METHOD:PUBLISH
BEGIN:VEVENT
DTSTAMP:20260426T013337Z
CREATED:20260421T054240Z
UID:ATEvent-aabc3635-d0cc-4629-96d0-e11c28a4b510
LAST-MODIFIED:20260421T055241Z
SUMMARY:Presentació del projecte «El llegat de les dones»
DTSTART:20260506T160000Z
DTEND:20260506T173000Z
CATEGORIES:Lletres,Primavera Literària
CLASS:PUBLIC
END:VEVENT
END:VCALENDAR
