BEGIN:VCALENDAR
PRODID:-//AT Content Types//AT Event//EN
VERSION:1.0
BEGIN:VEVENT
DTSTART:20260507T163000Z
DTEND:20260507T180000Z
DCREATED:20260410T063713Z
UID:ATEvent-0a804172-5259-43f2-9957-0b6cc2428973
SEQUENCE:0
LAST-MODIFIED:20260422T095043Z
SUMMARY:Presentació del llibre “El maqui que encara lluita. Joan Busquets Verges\, una vida d’antifeixisme”\, d’Enric Garcia Jardí
PRIORITY:3
TRANSP:0
END:VEVENT
END:VCALENDAR
