BEGIN:VCALENDAR
PRODID:-//AT Content Types//AT Event//EN
VERSION:1.0
BEGIN:VEVENT
DTSTART:20260516T083000Z
DTEND:20260516T101500Z
DCREATED:20260304T081521Z
UID:ATEvent-ebc5513e-3156-4be7-aea4-6a33a2b92ece
SEQUENCE:0
LAST-MODIFIED:20260401T064522Z
SUMMARY:Arts en família | Dansa i moviment
PRIORITY:3
TRANSP:0
END:VEVENT
END:VCALENDAR
