BEGIN:VCALENDAR
PRODID:-//AT Content Types//AT Event//EN
VERSION:2.0
METHOD:PUBLISH
BEGIN:VEVENT
DTSTAMP:20260421T222216Z
CREATED:20260304T081521Z
UID:ATEvent-eea4677e-ab1f-4b9f-8fe0-179830b70d5c
LAST-MODIFIED:20260401T064831Z
SUMMARY:Arts en família\: La tribu canta
DTSTART:20260606T083000Z
DTEND:20260606T101500Z
CATEGORIES:Famílies,Ensenyament
CLASS:PUBLIC
END:VEVENT
END:VCALENDAR
