BEGIN:VCALENDAR
PRODID:-//AT Content Types//AT Event//EN
VERSION:2.0
METHOD:PUBLISH
BEGIN:VEVENT
DTSTAMP:20260423T072615Z
CREATED:20260423T045442Z
UID:ATEvent-4492a707-e2de-49c0-943a-92670318f71b
LAST-MODIFIED:20260423T045555Z
SUMMARY:Construeix el teu eclipsi
DTSTART:20260530T160000Z
DTEND:20260530T173000Z
CATEGORIES:Eclipsi
CLASS:PUBLIC
END:VEVENT
END:VCALENDAR
