BEGIN:VCALENDAR
PRODID:-//AT Content Types//AT Event//EN
VERSION:2.0
METHOD:PUBLISH
BEGIN:VEVENT
DTSTAMP:20260419T140012Z
CREATED:20260116T111554Z
UID:ATEvent-75ed3083-5b8e-4ab7-bc55-c6a6620fb91c
LAST-MODIFIED:20260414T070456Z
SUMMARY:Explora en família - Sant Jordi
DTSTART:20260426T090000Z
DTEND:20260426T110000Z
CATEGORIES:Sant Jordi
CLASS:PUBLIC
END:VEVENT
END:VCALENDAR
