BEGIN:VCALENDAR
PRODID:-//AT Content Types//AT Event//EN
VERSION:1.0
BEGIN:VEVENT
DTSTART:20260427T140000Z
DTEND:20260427T170000Z
DCREATED:20260419T093952Z
UID:ATEvent-5460c4f4-78a5-4839-85a7-54a690ac4f93
SEQUENCE:0
LAST-MODIFIED:20260419T095524Z
SUMMARY:Sessions informatives dels Màsters i Postgraus de la URV
PRIORITY:3
TRANSP:0
END:VEVENT
END:VCALENDAR
