BEGIN:VCALENDAR
PRODID:-//AT Content Types//AT Event//EN
VERSION:2.0
METHOD:PUBLISH
BEGIN:VEVENT
DTSTAMP:20260419T122814Z
CREATED:20260419T093952Z
UID:ATEvent-b33b5b7d-e12b-49ba-90cb-d3d567a3b6c1
LAST-MODIFIED:20260419T095524Z
SUMMARY:Sessions informatives dels Màsters i Postgraus de la URV
DTSTART:20260428T140000Z
DTEND:20260428T170000Z
CATEGORIES:Ensenyament
CLASS:PUBLIC
END:VEVENT
END:VCALENDAR
