BEGIN:VCALENDAR
PRODID:-//AT Content Types//AT Event//EN
VERSION:1.0
BEGIN:VEVENT
DTSTART:20260429T140000Z
DTEND:20260429T170000Z
DCREATED:20260419T093952Z
UID:ATEvent-33d77f98-2004-4088-92ee-a4aac4101059
SEQUENCE:0
LAST-MODIFIED:20260419T095524Z
SUMMARY:Sessions informatives dels Màsters i Postgraus de la URV
PRIORITY:3
TRANSP:0
END:VEVENT
END:VCALENDAR
