BEGIN:VCALENDAR
PRODID:-//AT Content Types//AT Event//EN
VERSION:1.0
BEGIN:VEVENT
DTSTART:20260430T140000Z
DTEND:20260430T170000Z
DCREATED:20260419T093952Z
UID:ATEvent-f3182c08-7634-48b3-8bbb-bbeafce194bf
SEQUENCE:0
LAST-MODIFIED:20260419T095524Z
SUMMARY:Sessions informatives dels Màsters i Postgraus de la URV
PRIORITY:3
TRANSP:0
END:VEVENT
END:VCALENDAR
