BEGIN:VCALENDAR
PRODID:-//AT Content Types//AT Event//EN
VERSION:1.0
BEGIN:VEVENT
DTSTART:20260331T160000Z
DTEND:20260331T173000Z
DCREATED:20260312T103853Z
UID:ATEvent-ba95c53a-58bd-4377-8107-4cb0aad0c056
SEQUENCE:0
LAST-MODIFIED:20260312T104009Z
SUMMARY:Tarda de jocs de taula per a tothom amb TGN Juga
PRIORITY:3
TRANSP:0
END:VEVENT
END:VCALENDAR
