BEGIN:VCALENDAR
PRODID:-//AT Content Types//AT Event//EN
VERSION:1.0
BEGIN:VEVENT
DTSTART:20260225T141500Z
DTEND:20260225T151500Z
DCREATED:20260130T100242Z
UID:ATEvent-8896257e-9a63-49f2-ab20-b68258b57866
SEQUENCE:0
LAST-MODIFIED:20260130T101007Z
SUMMARY:Xerrada\: 'La preinscripció a Tarragona'
PRIORITY:3
TRANSP:0
END:VEVENT
END:VCALENDAR
