BEGIN:VCALENDAR
PRODID:-//AT Content Types//AT Event//EN
VERSION:1.0
BEGIN:VEVENT
DTSTART:20260704T070000Z
DTEND:20260704T120000Z
DCREATED:20260310T092558Z
UID:ATEvent-51b7f458-afb8-4b0b-b19e-ae7e19cd0845
SEQUENCE:0
LAST-MODIFIED:20260310T092607Z
SUMMARY:Catalunya Bike Contra el Càncer
PRIORITY:3
TRANSP:0
END:VEVENT
END:VCALENDAR
