BEGIN:VCALENDAR
PRODID:-//AT Content Types//AT Event//EN
VERSION:2.0
METHOD:PUBLISH
BEGIN:VEVENT
DTSTAMP:20260420T150336Z
CREATED:20260211T073722Z
UID:ATEvent-da0fc05b-4176-443f-bce9-539bf6ecbca4
LAST-MODIFIED:20260420T075729Z
SUMMARY:Copa d'Espanya de Powerchair Football
DTSTART:20260425T080000Z
DTEND:20260425T170000Z
CATEGORIES:Esports
CLASS:PUBLIC
END:VEVENT
END:VCALENDAR
