BEGIN:VCALENDAR
PRODID:-//AT Content Types//AT Event//EN
VERSION:2.0
METHOD:PUBLISH
BEGIN:VEVENT
DTSTAMP:20260420T150336Z
CREATED:20260211T073722Z
UID:ATEvent-b81f3669-3f90-439c-8ddc-45426cea1f96
LAST-MODIFIED:20260420T075730Z
SUMMARY:Copa d'Espanya de Powerchair Football
DTSTART:20260426T070000Z
DTEND:20260426T140000Z
CATEGORIES:Esports
CLASS:PUBLIC
END:VEVENT
END:VCALENDAR
