BEGIN:VCALENDAR
PRODID:-//AT Content Types//AT Event//EN
VERSION:2.0
METHOD:PUBLISH
BEGIN:VEVENT
DTSTAMP:20260425T224535Z
CREATED:20260316T071758Z
UID:ATEvent-fd307c53-57d5-4c8a-b7c8-c67841f9cb75
LAST-MODIFIED:20260416T122132Z
SUMMARY:Estrambòtica. Bicicletes impossibles
DTSTART:20260630T160000Z
DTEND:20260630T173000Z
CATEGORIES:Esports,Famílies,Tour a casa,Joventut
CONTACT:977296251
CLASS:PUBLIC
END:VEVENT
END:VCALENDAR
