BEGIN:VCALENDAR
PRODID:-//AT Content Types//AT Event//EN
VERSION:2.0
METHOD:PUBLISH
BEGIN:VEVENT
DTSTAMP:20260425T193514Z
CREATED:20260316T071758Z
UID:ATEvent-dc7fb389-31f0-4900-b8f5-21d46e4d02a3
LAST-MODIFIED:20260416T122119Z
SUMMARY:Cicle Indoor Kesse. Ritme i pedal
DTSTART:20260702T170000Z
DTEND:20260702T183000Z
CATEGORIES:Esports,Famílies,Tour a casa,Joventut
CONTACT:977296251
CLASS:PUBLIC
END:VEVENT
END:VCALENDAR
