BEGIN:VCALENDAR
PRODID:-//AT Content Types//AT Event//EN
VERSION:1.0
BEGIN:VEVENT
DTSTART:20260713T160000Z
DTEND:20260717T180000Z
DCREATED:20260327T193907Z
UID:ATEvent-9a71a94c-df89-415f-953b-7eac82a078aa
SEQUENCE:0
LAST-MODIFIED:20260330T063431Z
SUMMARY:Estiu | Summer Week. Jove Express. Lleure i tecnologia
PRIORITY:3
TRANSP:0
END:VEVENT
END:VCALENDAR
