BEGIN:VCALENDAR
PRODID:-//AT Content Types//AT Event//EN
VERSION:1.0
BEGIN:VEVENT
DTSTART:20260803T160000Z
DTEND:20260807T173000Z
DCREATED:20260327T202329Z
UID:ATEvent-9e3c1c88-b81b-4eb6-9072-76ea181a91bf
SEQUENCE:0
LAST-MODIFIED:20260330T064826Z
SUMMARY:Estiu | Summer Week. Iniciació al rugbi | Torn 3
PRIORITY:3
TRANSP:0
END:VEVENT
END:VCALENDAR
