BEGIN:VCALENDAR
PRODID:-//AT Content Types//AT Event//EN
VERSION:2.0
METHOD:PUBLISH
BEGIN:VEVENT
DTSTAMP:20260419T151411Z
CREATED:20260327T193907Z
UID:ATEvent-e4d9a61a-210f-4d51-b182-340cf82636c3
LAST-MODIFIED:20260330T063650Z
SUMMARY:Estiu | Summer Week. Jove Express. Lleure i cultura
DTSTART:20260720T160000Z
DTEND:20260724T180000Z
CONTACT:977296251
CLASS:PUBLIC
END:VEVENT
END:VCALENDAR
