BEGIN:VCALENDAR
PRODID:-//AT Content Types//AT Event//EN
VERSION:1.0
BEGIN:VEVENT
DTSTART:20260727T160000Z
DTEND:20260731T180000Z
DCREATED:20260327T193907Z
UID:ATEvent-0ee06d2d-6148-4b06-bd92-b8487849d30d
SEQUENCE:0
LAST-MODIFIED:20260330T063757Z
SUMMARY:Estiu | Summer Week. Jove Express. leure i Mindfullnes i suport emocional
PRIORITY:3
TRANSP:0
END:VEVENT
END:VCALENDAR
