BEGIN:VCALENDAR
PRODID:-//AT Content Types//AT Event//EN
VERSION:1.0
BEGIN:VEVENT
DTSTART:20260703T160000Z
DTEND:20260807T180000Z
DCREATED:20260327T193907Z
UID:ATEvent-e315c5aa-5b4e-428c-9c52-0eacf04f0b6d
SEQUENCE:0
LAST-MODIFIED:20260330T064514Z
SUMMARY:Estiu | Summer Week. Jove Express. Lleure i esport
PRIORITY:3
TRANSP:0
END:VEVENT
END:VCALENDAR
