BEGIN:VCALENDAR
PRODID:-//AT Content Types//AT Event//EN
VERSION:1.0
BEGIN:VEVENT
DTSTART:20260810T160000Z
DTEND:20260814T180000Z
DCREATED:20260327T193907Z
UID:ATEvent-f331f624-7298-4d1e-b003-ce04eaa907f0
SEQUENCE:0
LAST-MODIFIED:20260330T064742Z
SUMMARY:Estiu | Summer Week. Jove Express. Lleure i Jocs de Taula i Rol
PRIORITY:3
TRANSP:0
END:VEVENT
END:VCALENDAR
