BEGIN:VCALENDAR
PRODID:-//AT Content Types//AT Event//EN
VERSION:2.0
METHOD:PUBLISH
BEGIN:VEVENT
DTSTAMP:20260419T145600Z
CREATED:20260327T203523Z
UID:ATEvent-dee94bd5-5e59-4e47-93da-4c8a31ffed3b
LAST-MODIFIED:20260330T064419Z
SUMMARY:Estiu | Summer Week. Iniciació a la guitarra. Torn 2
DTSTART:20260803T153000Z
DTEND:20260807T173000Z
CONTACT:977296251
CLASS:PUBLIC
END:VEVENT
END:VCALENDAR
