BEGIN:VCALENDAR
PRODID:-//AT Content Types//AT Event//EN
VERSION:1.0
BEGIN:VEVENT
DTSTART:20260706T160000Z
DTEND:20260710T180000Z
DCREATED:20260327T193907Z
UID:ATEvent-0be6a4eb-d074-4290-b72f-30cc426129d8
SEQUENCE:0
LAST-MODIFIED:20260330T063418Z
SUMMARY:Estiu | Summer Week. Jove Express. Lleure i creativitat
PRIORITY:3
TRANSP:0
END:VEVENT
END:VCALENDAR
