BEGIN:VCALENDAR
PRODID:-//AT Content Types//AT Event//EN
VERSION:1.0
BEGIN:VEVENT
DTSTART:20260713T160000Z
DTEND:20260717T173000Z
DCREATED:20260327T202329Z
UID:ATEvent-15a70bfa-b968-4512-92b8-2e890f16284b
SEQUENCE:0
LAST-MODIFIED:20260330T064806Z
SUMMARY:Estiu | Summer Week. Iniciació al rugbi | Torn 2
PRIORITY:3
TRANSP:0
END:VEVENT
END:VCALENDAR
