BEGIN:VCALENDAR
PRODID:-//AT Content Types//AT Event//EN
VERSION:1.0
BEGIN:VEVENT
DTSTART:20260629T073000Z
DTEND:20260703T093000Z
DCREATED:20260327T203136Z
UID:ATEvent-a5daf1e7-b22f-4d6f-ae4a-3c2ca7bbb6a9
SEQUENCE:0
LAST-MODIFIED:20260330T064833Z
SUMMARY:Estiu | Summer Week. Circ i altres bestieses
PRIORITY:3
TRANSP:0
END:VEVENT
END:VCALENDAR
