BEGIN:VCALENDAR
PRODID:-//AT Content Types//AT Event//EN
VERSION:1.0
BEGIN:VEVENT
DTSTART:20260629T150000Z
DTEND:20260703T170000Z
DCREATED:20260327T205232Z
UID:ATEvent-c2a67d2e-3db1-414e-b383-ecc45888e592
SEQUENCE:0
LAST-MODIFIED:20260330T063815Z
SUMMARY:Estiu | Summer Week. Cuina per sobreviure
PRIORITY:3
TRANSP:0
END:VEVENT
END:VCALENDAR
