BEGIN:VCALENDAR
PRODID:-//AT Content Types//AT Event//EN
VERSION:2.0
METHOD:PUBLISH
BEGIN:VEVENT
DTSTAMP:20260419T123456Z
CREATED:20260327T200400Z
UID:ATEvent-09b7b748-8cf2-4d2f-9621-37821021b141
LAST-MODIFIED:20260330T064650Z
SUMMARY:Estiu | Summer Week. El dia s’enfosqueix
DTSTART:20260625T190000Z
DTEND:20260626T210000Z
CONTACT:977296251
CLASS:PUBLIC
END:VEVENT
END:VCALENDAR
