BEGIN:VCALENDAR
PRODID:-//AT Content Types//AT Event//EN
VERSION:1.0
BEGIN:VEVENT
DTSTART:20260629T164500Z
DTEND:20260703T184500Z
DCREATED:20260327T204922Z
UID:ATEvent-363ef578-d4d6-4baf-8993-7908bb6c1a3c
SEQUENCE:0
LAST-MODIFIED:20260416T093528Z
SUMMARY:Estiu | Summer Week. Fotografia fresh Eclipsi time
PRIORITY:3
TRANSP:0
END:VEVENT
END:VCALENDAR
