BEGIN:VCALENDAR
PRODID:-//AT Content Types//AT Event//EN
VERSION:2.0
METHOD:PUBLISH
BEGIN:VEVENT
DTSTAMP:20260419T141243Z
CREATED:20260327T204457Z
UID:ATEvent-eb4bf203-5791-47bd-affb-90a8f261fe70
LAST-MODIFIED:20260330T064231Z
SUMMARY:Estiu | Summer Week. Il.lustració i arts plàstiques
DTSTART:20260629T100000Z
DTEND:20260703T120000Z
CONTACT:977296251
CLASS:PUBLIC
END:VEVENT
END:VCALENDAR
