BEGIN:VCALENDAR
PRODID:-//AT Content Types//AT Event//EN
VERSION:2.0
METHOD:PUBLISH
BEGIN:VEVENT
DTSTAMP:20260419T135944Z
CREATED:20260327T203523Z
UID:ATEvent-a4564632-4397-49c0-b6a1-ead7707e8fb6
LAST-MODIFIED:20260330T064442Z
SUMMARY:Estiu | Summer Week. Iniciació a la guitarra. Torn 1
DTSTART:20260629T083000Z
DTEND:20260703T103000Z
CONTACT:977296251
CLASS:PUBLIC
END:VEVENT
END:VCALENDAR
