BEGIN:VCALENDAR
PRODID:-//AT Content Types//AT Event//EN
VERSION:2.0
METHOD:PUBLISH
BEGIN:VEVENT
DTSTAMP:20260419T132444Z
CREATED:20260327T193907Z
UID:ATEvent-3f415a7c-11fa-4746-94eb-431a3f89bb57
LAST-MODIFIED:20260330T063405Z
SUMMARY:Estiu | Summer Week. Jove Express. Lleure i cuina
DTSTART:20260629T160000Z
DTEND:20260703T180000Z
CONTACT:977296251
CLASS:PUBLIC
END:VEVENT
END:VCALENDAR
