BEGIN:VCALENDAR
PRODID:-//AT Content Types//AT Event//EN
VERSION:2.0
METHOD:PUBLISH
BEGIN:VEVENT
DTSTAMP:20260419T123733Z
CREATED:20260327T201343Z
UID:ATEvent-3e56d250-9abf-4d68-8b06-f5c54971dffc
LAST-MODIFIED:20260330T064707Z
SUMMARY:Estiu | Summer Week. Laboratori Ioga\, Natura & Art
DTSTART:20260626T160000Z
DTEND:20260708T190000Z
CONTACT:977296251
CLASS:PUBLIC
END:VEVENT
END:VCALENDAR
