BEGIN:VCALENDAR
PRODID:-//AT Content Types//AT Event//EN
VERSION:2.0
METHOD:PUBLISH
BEGIN:VEVENT
DTSTAMP:20260419T151400Z
CREATED:20260327T202329Z
UID:ATEvent-81463fac-8213-42ac-b69d-99f3a5c42905
LAST-MODIFIED:20260330T064751Z
SUMMARY:Estiu | Summer Week. Iniciació al rugbi | Torn 1
DTSTART:20260629T160000Z
DTEND:20260703T173000Z
CONTACT:977296251
CLASS:PUBLIC
END:VEVENT
END:VCALENDAR
