BEGIN:VCALENDAR
PRODID:-//AT Content Types//AT Event//EN
VERSION:2.0
METHOD:PUBLISH
BEGIN:VEVENT
DTSTAMP:20260425T224708Z
CREATED:20260316T071758Z
UID:ATEvent-81c89947-955e-4137-a955-e145c394b389
LAST-MODIFIED:20260416T120212Z
SUMMARY:Taller "Circulació segura amb bicicleta"
DTSTART:20260613T170000Z
DTEND:20260613T180000Z
CATEGORIES:Esports,Ensenyament,Tour a casa,Joventut
CONTACT:977296251
CLASS:PUBLIC
END:VEVENT
END:VCALENDAR
