BEGIN:VCALENDAR
PRODID:-//AT Content Types//AT Event//EN
VERSION:2.0
METHOD:PUBLISH
BEGIN:VEVENT
DTSTAMP:20260424T032212Z
CREATED:20170523T070931Z
UID:ATEvent-e90cf964-73b3-4c49-ab2a-faa3fd1be830
LAST-MODIFIED:20170523T074908Z
SUMMARY:Balanç de la Brigada d’Intervenció Ràpida
DTSTART:20170523T090000Z
DTEND:20170523T093000Z
CLASS:PUBLIC
END:VEVENT
END:VCALENDAR
