BEGIN:VCALENDAR
PRODID:-//AT Content Types//AT Event//EN
VERSION:1.0
BEGIN:VEVENT
DTSTART:20170913T081500Z
DTEND:20170913T084500Z
DCREATED:20170912T130905Z
UID:ATEvent-92d4f54b-b487-43af-8dfc-4cab31cfffd6
SEQUENCE:0
LAST-MODIFIED:20170913T103100Z
SUMMARY:Balanç Tarragona Història Viva
PRIORITY:3
TRANSP:0
END:VEVENT
END:VCALENDAR
