BEGIN:VCALENDAR
PRODID:-//AT Content Types//AT Event//EN
VERSION:1.0
BEGIN:VEVENT
DTSTART:20170626T070000Z
DTEND:20170626T084500Z
DCREATED:20170626T094544Z
UID:ATEvent-6c15dd22-db99-41f7-bc09-eb3e24f3136d
SEQUENCE:0
LAST-MODIFIED:20170626T114042Z
SUMMARY:Casals d'Estiu a l'Escola
PRIORITY:3
TRANSP:0
END:VEVENT
END:VCALENDAR
