BEGIN:VCALENDAR
PRODID:-//AT Content Types//AT Event//EN
VERSION:2.0
METHOD:PUBLISH
BEGIN:VEVENT
DTSTAMP:20260424T032815Z
CREATED:20170502T110642Z
UID:ATEvent-4b804035-c2cb-4c90-8ee0-2616ebd3668b
LAST-MODIFIED:20170503T073235Z
SUMMARY:Concurs Internacional de Focs Artificials de Tarragona 2017\: pirotècnies participants i sorteig d’ordre del dia de participació
DTSTART:20170502T090000Z
DTEND:20170502T100000Z
CLASS:PUBLIC
END:VEVENT
END:VCALENDAR
